BEGIN:VCALENDAR
VERSION:2.0
PRODID:-//sjogrenscanada.org//NONSGML kigkonsult.se iCalcreator 2.30.10//
CALSCALE:GREGORIAN
METHOD:PUBLISH
UID:9709955b-ccd1-4939-8694-1b1ab1611e39
X-WR-CALDESC:
X-WR-RELCALID:1ba7d5a4aa7df49b789332879467e942
X-WR-TIMEZONE:America/New_York
BEGIN:VTIMEZONE
TZID:America/New_York
BEGIN:STANDARD
TZNAME:EST
DTSTART:20211107T020000
TZOFFSETFROM:-0400
TZOFFSETTO:-0500
RDATE:20221106T020000
END:STANDARD
BEGIN:DAYLIGHT
TZNAME:EDT
DTSTART:20220313T020000
TZOFFSETFROM:-0500
TZOFFSETTO:-0400
RDATE:20230312T020000
END:DAYLIGHT
END:VTIMEZONE
BEGIN:VEVENT
UID:554bf2c8-4d2b-44ba-8ea2-76d17b4b47c3
DTSTAMP:20260422T163602Z
DESCRIPTION:
DTSTART;TZID=America/New_York:20220329T110000
DTEND;TZID=America/New_York:20220329T113000
LOCATION:https://us02web.zoom.us/j/81245294008?pwd=QVJ1RnBLWHlDaTA5cXhuK2lv
 bDdZdz09
SUMMARY:Financial Meeting
END:VEVENT
END:VCALENDAR
