BEGIN:VCALENDAR
VERSION:2.0
PRODID:-//sjogrenscanada.org//NONSGML kigkonsult.se iCalcreator 2.30.10//
CALSCALE:GREGORIAN
METHOD:PUBLISH
UID:639d8ee6-9af8-4e1e-8439-357d9022716f
X-WR-CALDESC:
X-WR-RELCALID:c70abfa36795061d09391b37a33171f3
X-WR-TIMEZONE:America/Regina
BEGIN:VTIMEZONE
TZID:America/Regina
BEGIN:STANDARD
TZNAME:CST
DTSTART:20200629T060000
TZOFFSETFROM:+0000
TZOFFSETTO:-0600
END:STANDARD
END:VTIMEZONE
BEGIN:VEVENT
UID:55449319-5f1f-4099-86ed-120ce9b1e676
DTSTAMP:20260422T163444Z
DESCRIPTION:
DTSTART;TZID=America/Regina:20220331T180000
DTEND;TZID=America/Regina:20220331T200000
LOCATION:https://us02web.zoom.us/j/86573948536?pwd=TVljS1RwQWI1T011Q0NIS1Rp
 NjhOQT09
SUMMARY:Saskatchewan Support Group Meeting
END:VEVENT
END:VCALENDAR
