BEGIN:VCALENDAR
VERSION:2.0
PRODID:-//sjogrenscanada.org//NONSGML kigkonsult.se iCalcreator 2.30.10//
CALSCALE:GREGORIAN
METHOD:PUBLISH
UID:c81e7b38-ef82-4e73-adda-6c5add1b07ad
X-WR-CALDESC:
X-WR-RELCALID:7ab5c9627a9ee09be12d0f55588d50ba
X-WR-TIMEZONE:America/New_York
BEGIN:VTIMEZONE
TZID:America/New_York
BEGIN:STANDARD
TZNAME:EST
DTSTART:20211107T020000
TZOFFSETFROM:-0400
TZOFFSETTO:-0500
RDATE:20221106T020000
END:STANDARD
BEGIN:DAYLIGHT
TZNAME:EDT
DTSTART:20220313T020000
TZOFFSETFROM:-0500
TZOFFSETTO:-0400
RDATE:20230312T020000
END:DAYLIGHT
END:VTIMEZONE
BEGIN:VEVENT
UID:02a5bb24-b270-4551-ac7e-1c1896278e38
DTSTAMP:20260422T152551Z
DESCRIPTION:
DTSTART;TZID=America/New_York:20220419T190000
DTEND;TZID=America/New_York:20220419T210000
LOCATION:https://us02web.zoom.us/j/85770951393?pwd=d0JIR3JVeDdNS3pIamNTanNv
 c1hiUT09
SUMMARY:Durham Region Support Group Meeting
END:VEVENT
END:VCALENDAR
