BEGIN:VCALENDAR
VERSION:2.0
PRODID:-//sjogrenscanada.org//NONSGML kigkonsult.se iCalcreator 2.30.10//
CALSCALE:GREGORIAN
METHOD:PUBLISH
UID:3fc50ada-db94-4f90-924c-b4bcbc441766
X-WR-CALDESC:
X-WR-RELCALID:bb616bdfd2c0bc945a3272879cba1ea9
X-WR-TIMEZONE:America/New_York
BEGIN:VTIMEZONE
TZID:America/New_York
BEGIN:STANDARD
TZNAME:EST
DTSTART:20211107T020000
TZOFFSETFROM:-0400
TZOFFSETTO:-0500
RDATE:20221106T020000
END:STANDARD
BEGIN:DAYLIGHT
TZNAME:EDT
DTSTART:20220313T020000
TZOFFSETFROM:-0500
TZOFFSETTO:-0400
RDATE:20230312T020000
END:DAYLIGHT
END:VTIMEZONE
BEGIN:VEVENT
UID:4cfdd94b-e990-4ecf-b4ff-29e0e24e549d
DTSTAMP:20260422T151844Z
DESCRIPTION:
DTSTART;TZID=America/New_York:20220421T110000
DTEND;TZID=America/New_York:20220421T120000
LOCATION:https://us02web.zoom.us/j/87478169075?pwd=enN5M1hFMDM1elRQWWpPbDRQ
 RVE5QT09
SUMMARY:Membership Benefits Committee Meeting
END:VEVENT
END:VCALENDAR
