BEGIN:VCALENDAR
VERSION:2.0
PRODID:-//sjogrenscanada.org//NONSGML kigkonsult.se iCalcreator 2.30.10//
CALSCALE:GREGORIAN
METHOD:PUBLISH
UID:6cc60eb1-16c4-414f-b6db-56753a105355
X-WR-CALDESC:
X-WR-RELCALID:17cd4b80bce437d0c335c439b8ae93f0
X-WR-TIMEZONE:America/New_York
BEGIN:VTIMEZONE
TZID:America/New_York
BEGIN:STANDARD
TZNAME:EST
DTSTART:20211107T020000
TZOFFSETFROM:-0400
TZOFFSETTO:-0500
RDATE:20221106T020000
END:STANDARD
BEGIN:DAYLIGHT
TZNAME:EDT
DTSTART:20220313T020000
TZOFFSETFROM:-0500
TZOFFSETTO:-0400
RDATE:20230312T020000
END:DAYLIGHT
END:VTIMEZONE
BEGIN:VEVENT
UID:c70f1810-fcad-4ee5-a554-c474c3b1f6bb
DTSTAMP:20260422T152701Z
DESCRIPTION:
DTSTART;TZID=America/New_York:20220421T131500
DTEND;TZID=America/New_York:20220421T140000
LOCATION:https://us02web.zoom.us/j/87055572885?pwd=QXF2VEU0c2tWMEo3NWsyNnh4
 d0trZz09
SUMMARY:Next Steps Cevimeline Meeting
END:VEVENT
END:VCALENDAR
