BEGIN:VCALENDAR
VERSION:2.0
PRODID:-//sjogrenscanada.org//NONSGML kigkonsult.se iCalcreator 2.30.10//
CALSCALE:GREGORIAN
METHOD:PUBLISH
UID:aaa6a968-8efc-4878-8520-ecdb704a6b5d
X-WR-CALDESC:
X-WR-RELCALID:0c79528dcdee46f4fa854a9405fa21a4
X-WR-TIMEZONE:America/New_York
BEGIN:VTIMEZONE
TZID:America/New_York
BEGIN:STANDARD
TZNAME:EST
DTSTART:20211107T020000
TZOFFSETFROM:-0400
TZOFFSETTO:-0500
RDATE:20221106T020000
END:STANDARD
BEGIN:DAYLIGHT
TZNAME:EDT
DTSTART:20220313T020000
TZOFFSETFROM:-0500
TZOFFSETTO:-0400
RDATE:20230312T020000
END:DAYLIGHT
END:VTIMEZONE
BEGIN:VEVENT
UID:17b1848f-af10-4460-8d2e-6329ea146f86
DTSTAMP:20260422T152600Z
DESCRIPTION:
DTSTART;TZID=America/New_York:20220425T183000
DTEND;TZID=America/New_York:20220425T193000
LOCATION:https://us02web.zoom.us/j/81377905530?pwd=U2FESGE4Ukx2czVDaEFlVDlB
 Q1gzUT09
SUMMARY:Conference Committee Meeting
END:VEVENT
END:VCALENDAR
