BEGIN:VCALENDAR
VERSION:2.0
PRODID:-//sjogrenscanada.org//NONSGML kigkonsult.se iCalcreator 2.30.10//
CALSCALE:GREGORIAN
METHOD:PUBLISH
UID:0a9ad1cd-d5a7-4e36-82b2-9ff17e83ac25
X-WR-CALDESC:
X-WR-RELCALID:77e93459d6d34ff5532f9cb95627a48e
X-WR-TIMEZONE:America/New_York
BEGIN:VTIMEZONE
TZID:America/New_York
BEGIN:STANDARD
TZNAME:EST
DTSTART:20211107T020000
TZOFFSETFROM:-0400
TZOFFSETTO:-0500
RDATE:20221106T020000
END:STANDARD
BEGIN:DAYLIGHT
TZNAME:EDT
DTSTART:20220313T020000
TZOFFSETFROM:-0500
TZOFFSETTO:-0400
RDATE:20230312T020000
END:DAYLIGHT
END:VTIMEZONE
BEGIN:VEVENT
UID:909981f9-31e4-4234-83fa-ce5728b2166a
DTSTAMP:20260422T151901Z
DESCRIPTION:
DTSTART;TZID=America/New_York:20220425T110000
DTEND;TZID=America/New_York:20220425T120000
LOCATION:https://us02web.zoom.us/j/84637488316?pwd=TCtRN2xuc0UzbFg1RzdBL2h2
 MWxwZz09
SUMMARY:Website Meeting
END:VEVENT
END:VCALENDAR
