BEGIN:VCALENDAR
VERSION:2.0
PRODID:-//sjogrenscanada.org//NONSGML kigkonsult.se iCalcreator 2.30.10//
CALSCALE:GREGORIAN
METHOD:PUBLISH
UID:7c6a1769-141b-4512-a5ca-0bd73b202a62
X-WR-CALDESC:
X-WR-RELCALID:fe54b57452802deea3e6567f933769c4
X-WR-TIMEZONE:America/New_York
BEGIN:VTIMEZONE
TZID:America/New_York
BEGIN:STANDARD
TZNAME:EST
DTSTART:20211107T020000
TZOFFSETFROM:-0400
TZOFFSETTO:-0500
RDATE:20221106T020000
END:STANDARD
BEGIN:DAYLIGHT
TZNAME:EDT
DTSTART:20220313T020000
TZOFFSETFROM:-0500
TZOFFSETTO:-0400
RDATE:20230312T020000
END:DAYLIGHT
END:VTIMEZONE
BEGIN:VEVENT
UID:fcd87531-fcc2-4d53-a97f-30f339bf77db
DTSTAMP:20260422T151707Z
DESCRIPTION:
DTSTART;TZID=America/New_York:20220427T190000
DTEND;TZID=America/New_York:20220427T210000
LOCATION:https://us02web.zoom.us/j/85755389806?pwd=aEkrc29PMjA1bGUxckVkYmxz
 QmszQT09
SUMMARY:Montreal Support Group Meeting
END:VEVENT
END:VCALENDAR
