BEGIN:VCALENDAR
VERSION:2.0
PRODID:-//sjogrenscanada.org//NONSGML kigkonsult.se iCalcreator 2.30.10//
CALSCALE:GREGORIAN
METHOD:PUBLISH
UID:68709670-cbd6-4319-8a79-770a2c19bd4b
X-WR-CALDESC:We’re excited to announce the 15th annual Sjogren’s National P
 atient Conference: Level Up Your Sjogren’s Knowledge\, will take  place on
  Saturday\, April 30\, 2022. Join us virtually\, in the comfort of your ow
 n home to hear from a variety of experts and get the latest information\, 
 tips and a chance to ask your questions. Mark your calendar and get ready 
 to engage\, learn and empower yourself!
X-WR-RELCALID:730212b59d8948d4a96b6b92fb6a8ef4
X-WR-TIMEZONE:America/New_York
BEGIN:VTIMEZONE
TZID:America/New_York
BEGIN:STANDARD
TZNAME:EST
DTSTART:20211107T020000
TZOFFSETFROM:-0400
TZOFFSETTO:-0500
RDATE:20221106T020000
END:STANDARD
BEGIN:DAYLIGHT
TZNAME:EDT
DTSTART:20220313T020000
TZOFFSETFROM:-0500
TZOFFSETTO:-0400
RDATE:20230312T020000
END:DAYLIGHT
END:VTIMEZONE
BEGIN:VEVENT
UID:5e6ace08-2304-444d-b193-71717708cae8
DTSTAMP:20260422T152823Z
DESCRIPTION:We’re excited to announce the 15th annual Sjogren’s National Pa
 tient Conference: Level Up Your Sjogren’s Knowledge\, will take  place on 
 Saturday\, April 30\, 2022. Join us virtually\, in the comfort of your own
  home to hear from a variety of experts and get the latest information\, t
 ips and a chance to ask your questions. Mark your calendar and get ready t
 o engage\, learn and empower yourself!
DTSTART;TZID=America/New_York:20220430T110000
DTEND;TZID=America/New_York:20220430T150000
LOCATION:https://www.canadahelps.org/en/charities/sjogrens-society-of-canad
 asociete-de-sjogrens-du-canada/events/sjsc-2022-virtual-national-patient-c
 onference/
SUMMARY:2022 Virtual National Patient Conference
END:VEVENT
END:VCALENDAR
