BEGIN:VCALENDAR
VERSION:2.0
PRODID:-//sjogrenscanada.org//NONSGML kigkonsult.se iCalcreator 2.30.10//
CALSCALE:GREGORIAN
METHOD:PUBLISH
UID:c93a2ff6-7021-45bd-b4c5-d7bd2d97ea68
X-WR-CALDESC:
X-WR-RELCALID:0d399417f1dfebbf5c46cb5ac914f03f
X-WR-TIMEZONE:America/Chicago
BEGIN:VTIMEZONE
TZID:America/Chicago
BEGIN:STANDARD
TZNAME:CST
DTSTART:20211107T020000
TZOFFSETFROM:-0500
TZOFFSETTO:-0600
RDATE:20221106T020000
RDATE:20231105T020000
END:STANDARD
BEGIN:DAYLIGHT
TZNAME:CDT
DTSTART:20220313T020000
TZOFFSETFROM:-0600
TZOFFSETTO:-0500
RDATE:20230312T020000
END:DAYLIGHT
END:VTIMEZONE
BEGIN:VEVENT
UID:860f9fac-415f-4266-8c1e-053cff9e310a
DTSTAMP:20260422T133854Z
DESCRIPTION:
DTSTART;TZID=America/Chicago:20220510T183000
DTEND;TZID=America/Chicago:20220510T203000
LOCATION:https://us02web.zoom.us/j/89855495958?pwd=T3lLdXNFRmNaalZDTkxtbS9z
 OUpGdz09
SUMMARY:Manitoba Support Group Meeting
END:VEVENT
END:VCALENDAR
