BEGIN:VCALENDAR
VERSION:2.0
PRODID:-//sjogrenscanada.org//NONSGML kigkonsult.se iCalcreator 2.30.10//
CALSCALE:GREGORIAN
METHOD:PUBLISH
UID:0b176753-423f-434e-924d-4c45e9d7dcfc
X-WR-CALDESC:
X-WR-RELCALID:b87b727115cfc0a6e984fb9584b9d292
X-WR-TIMEZONE:America/New_York
BEGIN:VTIMEZONE
TZID:America/New_York
BEGIN:STANDARD
TZNAME:EST
DTSTART:20211107T020000
TZOFFSETFROM:-0400
TZOFFSETTO:-0500
RDATE:20221106T020000
RDATE:20231105T020000
END:STANDARD
BEGIN:DAYLIGHT
TZNAME:EDT
DTSTART:20220313T020000
TZOFFSETFROM:-0500
TZOFFSETTO:-0400
RDATE:20230312T020000
END:DAYLIGHT
END:VTIMEZONE
BEGIN:VEVENT
UID:deddc41a-855e-4e67-84d5-0e5fb24ef776
DTSTAMP:20260422T133624Z
DESCRIPTION:
DTSTART;TZID=America/New_York:20220517T190000
DTEND;TZID=America/New_York:20220517T210000
LOCATION:https://us02web.zoom.us/j/85864187190?pwd=M3ZIMXdRMXNrVGl4Y3BoTmI4
 NHc2dz09
SUMMARY:Durham Region Support Group Meeting (Copy)
END:VEVENT
END:VCALENDAR
