BEGIN:VCALENDAR
VERSION:2.0
PRODID:-//sjogrenscanada.org//NONSGML kigkonsult.se iCalcreator 2.30.10//
CALSCALE:GREGORIAN
METHOD:PUBLISH
UID:8dd4df59-98fe-4b33-a324-30e68eba209a
X-WR-CALDESC:
X-WR-RELCALID:23fe0dade1ac4501bd76532d5a528e65
X-WR-TIMEZONE:America/New_York
BEGIN:VTIMEZONE
TZID:America/New_York
BEGIN:STANDARD
TZNAME:EST
DTSTART:20211107T020000
TZOFFSETFROM:-0400
TZOFFSETTO:-0500
RDATE:20221106T020000
RDATE:20231105T020000
END:STANDARD
BEGIN:DAYLIGHT
TZNAME:EDT
DTSTART:20220313T020000
TZOFFSETFROM:-0500
TZOFFSETTO:-0400
RDATE:20230312T020000
END:DAYLIGHT
END:VTIMEZONE
BEGIN:VEVENT
UID:5ed57a7f-75da-4c11-9658-14a9391e85d5
DTSTAMP:20260422T133941Z
DESCRIPTION:
DTSTART;TZID=America/New_York:20220517T190000
DTEND;TZID=America/New_York:20220517T210000
LOCATION:https://us02web.zoom.us/j/85864187190?pwd=M3ZIMXdRMXNrVGl4Y3BoTmI4
 NHc2dz09
SUMMARY:Durham Region Support Group Meeting
END:VEVENT
END:VCALENDAR
