BEGIN:VCALENDAR
VERSION:2.0
PRODID:-//sjogrenscanada.org//NONSGML kigkonsult.se iCalcreator 2.30.10//
CALSCALE:GREGORIAN
METHOD:PUBLISH
UID:aae1d136-3fca-455b-94c0-738029210832
X-WR-CALDESC:
X-WR-RELCALID:b2798d0ddd2b54f5de40656583fff6a3
X-WR-TIMEZONE:America/New_York
BEGIN:VTIMEZONE
TZID:America/New_York
BEGIN:STANDARD
TZNAME:EST
DTSTART:20211107T020000
TZOFFSETFROM:-0400
TZOFFSETTO:-0500
RDATE:20221106T020000
RDATE:20231105T020000
END:STANDARD
BEGIN:DAYLIGHT
TZNAME:EDT
DTSTART:20220313T020000
TZOFFSETFROM:-0500
TZOFFSETTO:-0400
RDATE:20230312T020000
END:DAYLIGHT
END:VTIMEZONE
BEGIN:VEVENT
UID:45cafe9c-3988-4822-ad19-0bbec52700b9
DTSTAMP:20260422T121944Z
DESCRIPTION:
DTSTART;TZID=America/New_York:20220601T000000
DTEND;TZID=America/New_York:20220630T233000
LOCATION:https://www.canadahelps.org/en/charities/sjogrens-society-of-canad
 asociete-de-sjogrens-du-canada/p2p/GCGC2022
SUMMARY:Great Canadian Giving Challenge
END:VEVENT
END:VCALENDAR
