BEGIN:VCALENDAR
VERSION:2.0
PRODID:-//sjogrenscanada.org//NONSGML kigkonsult.se iCalcreator 2.30.10//
CALSCALE:GREGORIAN
METHOD:PUBLISH
UID:b88a1fbd-4878-4a67-97ff-3241fd8c62bb
X-WR-CALDESC:
X-WR-RELCALID:70e4512fa53c583938d1e7d001911941
X-WR-TIMEZONE:America/New_York
BEGIN:VTIMEZONE
TZID:America/New_York
BEGIN:STANDARD
TZNAME:EST
DTSTART:20211107T020000
TZOFFSETFROM:-0400
TZOFFSETTO:-0500
RDATE:20221106T020000
RDATE:20231105T020000
END:STANDARD
BEGIN:DAYLIGHT
TZNAME:EDT
DTSTART:20220313T020000
TZOFFSETFROM:-0500
TZOFFSETTO:-0400
RDATE:20230312T020000
END:DAYLIGHT
END:VTIMEZONE
BEGIN:VEVENT
UID:19d92d3f-5df6-4cf8-84eb-50af17ba829a
DTSTAMP:20260422T120947Z
DESCRIPTION:
DTSTART;TZID=America/New_York:20220611T100000
DTEND;TZID=America/New_York:20220611T120000
LOCATION:https://us02web.zoom.us/j/82830667690?pwd=WElrS2U4MVgvdUp4cjBMUnhC
 VjJWQT09
SUMMARY:London Support Group Meeting
END:VEVENT
END:VCALENDAR
