BEGIN:VCALENDAR
VERSION:2.0
PRODID:-//sjogrenscanada.org//NONSGML kigkonsult.se iCalcreator 2.30.10//
CALSCALE:GREGORIAN
METHOD:PUBLISH
UID:e0d4eb3f-9e01-4066-b75a-57a8f87fb1fb
X-WR-CALDESC:Guest Speaker - Dr. Shalu Pal\, Optometrist\, SjSC Medical Adv
 isory Board Member\n'Current & Advanced Dry Eye Treatments'\n
X-WR-RELCALID:4bbe6b43eade1fd53abc5bdda78ed371
X-WR-TIMEZONE:America/New_York
BEGIN:VTIMEZONE
TZID:America/New_York
BEGIN:STANDARD
TZNAME:EST
DTSTART:20211107T020000
TZOFFSETFROM:-0400
TZOFFSETTO:-0500
RDATE:20221106T020000
RDATE:20231105T020000
END:STANDARD
BEGIN:DAYLIGHT
TZNAME:EDT
DTSTART:20220313T020000
TZOFFSETFROM:-0500
TZOFFSETTO:-0400
RDATE:20230312T020000
END:DAYLIGHT
END:VTIMEZONE
BEGIN:VEVENT
UID:cf071209-e77f-449f-a16b-c96b27bb9dad
DTSTAMP:20260422T120323Z
DESCRIPTION:Guest Speaker - Dr. Shalu Pal\, Optometrist\, SjSC Medical Advi
 sory Board Member\n'Current & Advanced Dry Eye Treatments'\n
DTSTART;TZID=America/New_York:20220614T190000
DTEND;TZID=America/New_York:20220614T203000
LOCATION:https://us02web.zoom.us/webinar/register/WN_2C3OlJP9TKaorxkWOgNcIA
SUMMARY:Members Only Virtual Town Hall
END:VEVENT
END:VCALENDAR
