BEGIN:VCALENDAR
VERSION:2.0
PRODID:-//sjogrenscanada.org//NONSGML kigkonsult.se iCalcreator 2.30.10//
CALSCALE:GREGORIAN
METHOD:PUBLISH
UID:f8bd7821-e63d-4387-9743-370e7fd0ae79
X-WR-CALDESC:
X-WR-RELCALID:16c5f006bbd87efa24ccafcc1ee5f80d
X-WR-TIMEZONE:America/Regina
BEGIN:VTIMEZONE
TZID:America/Regina
BEGIN:STANDARD
TZNAME:CST
DTSTART:20200921T060000
TZOFFSETFROM:+0000
TZOFFSETTO:-0600
END:STANDARD
END:VTIMEZONE
BEGIN:VEVENT
UID:7cc7e2bf-2933-4c98-bfa8-3a5af6aa220b
DTSTAMP:20260422T121244Z
DESCRIPTION:
DTSTART;TZID=America/Regina:20220623T190000
DTEND;TZID=America/Regina:20220623T210000
LOCATION:https://us02web.zoom.us/j/89384491262?pwd=WmFvTy8wSTIwNHZJVjJUcWZO
 NkNBQT09
SUMMARY:Saskatchewan Support Group Meeting
END:VEVENT
END:VCALENDAR
