BEGIN:VCALENDAR
VERSION:2.0
PRODID:-//sjogrenscanada.org//NONSGML kigkonsult.se iCalcreator 2.30.10//
CALSCALE:GREGORIAN
METHOD:PUBLISH
UID:f02da3a0-f546-432d-b32d-c8657d4572a3
X-WR-CALDESC:We are asking you to RSVP if you would like to attend the AGM 
 on June 25\, 2022 at 11am EST. Send us your email request to the email add
 ress below to attend\, and your email address will be added to the list of
  attendees for the Zoom meeting. You will receive an email the day before 
 the AGM with instructions on how to join. This email will also include all
  documents related to the meeting including the Agenda and Annual Report.
X-WR-RELCALID:6a4e0496636cd91661d12ff724c8cbe2
X-WR-TIMEZONE:America/New_York
BEGIN:VTIMEZONE
TZID:America/New_York
BEGIN:STANDARD
TZNAME:EST
DTSTART:20211107T020000
TZOFFSETFROM:-0400
TZOFFSETTO:-0500
RDATE:20221106T020000
RDATE:20231105T020000
END:STANDARD
BEGIN:DAYLIGHT
TZNAME:EDT
DTSTART:20220313T020000
TZOFFSETFROM:-0500
TZOFFSETTO:-0400
RDATE:20230312T020000
END:DAYLIGHT
END:VTIMEZONE
BEGIN:VEVENT
UID:b7a6f56e-0451-486a-ba41-c0aed76dd6bb
DTSTAMP:20260422T121111Z
DESCRIPTION:We are asking you to RSVP if you would like to attend the AGM o
 n June 25\, 2022 at 11am EST. Send us your email request to the email addr
 ess below to attend\, and your email address will be added to the list of 
 attendees for the Zoom meeting. You will receive an email the day before t
 he AGM with instructions on how to join. This email will also include all 
 documents related to the meeting including the Agenda and Annual Report.
DTSTART;TZID=America/New_York:20220625T110000
DTEND;TZID=America/New_York:20220625T120000
LOCATION:RSVP Now
SUMMARY:SjSC AGM
END:VEVENT
END:VCALENDAR
