BEGIN:VCALENDAR
VERSION:2.0
PRODID:-//sjogrenscanada.org//NONSGML kigkonsult.se iCalcreator 2.30.10//
CALSCALE:GREGORIAN
METHOD:PUBLISH
UID:2962960e-582b-441a-baf0-f17d90232d67
X-WR-CALDESC:The Woodbridge Support Group will be holding an in-person meet
 ing.  Please contact Support Group Leader\, Mary Lou\, for more informatio
 n.
X-WR-RELCALID:43e32b10cf41396cdc2a9f07760c7a22
X-WR-TIMEZONE:America/New_York
BEGIN:VTIMEZONE
TZID:America/New_York
BEGIN:STANDARD
TZNAME:EST
DTSTART:20211107T020000
TZOFFSETFROM:-0400
TZOFFSETTO:-0500
RDATE:20221106T020000
RDATE:20231105T020000
END:STANDARD
BEGIN:DAYLIGHT
TZNAME:EDT
DTSTART:20220313T020000
TZOFFSETFROM:-0500
TZOFFSETTO:-0400
RDATE:20230312T020000
END:DAYLIGHT
END:VTIMEZONE
BEGIN:VEVENT
UID:5fa33450-30ed-4af2-b146-dc18a5bd5f3e
DTSTAMP:20260422T122705Z
DESCRIPTION:The Woodbridge Support Group will be holding an in-person meeti
 ng.  Please contact Support Group Leader\, Mary Lou\, for more information
 .
DTSTART;TZID=America/New_York:20220628T103000
DTEND;TZID=America/New_York:20220628T123000
LOCATION:Woodbridge\, ON
SUMMARY:Woodbridge Support Group Meeting
END:VEVENT
END:VCALENDAR
