BEGIN:VCALENDAR
VERSION:2.0
PRODID:-//sjogrenscanada.org//NONSGML kigkonsult.se iCalcreator 2.30.10//
CALSCALE:GREGORIAN
METHOD:PUBLISH
UID:33e4732c-985c-4216-968d-8d9f0427d73d
X-WR-CALDESC:Household items\, clothing\, furniture\, jewelry\, toys\, book
 s and much more!\nPartial proceeds donated to the SjSC
X-WR-RELCALID:7891265b9cae5f334ce344265b58bb3f
X-WR-TIMEZONE:America/New_York
BEGIN:VTIMEZONE
TZID:America/New_York
BEGIN:STANDARD
TZNAME:EST
DTSTART:20211107T020000
TZOFFSETFROM:-0400
TZOFFSETTO:-0500
RDATE:20221106T020000
RDATE:20231105T020000
END:STANDARD
BEGIN:DAYLIGHT
TZNAME:EDT
DTSTART:20220313T020000
TZOFFSETFROM:-0500
TZOFFSETTO:-0400
RDATE:20230312T020000
END:DAYLIGHT
END:VTIMEZONE
BEGIN:VEVENT
UID:f5ef7b19-94a1-4f6c-8436-98ef1abca20f
DTSTAMP:20260422T104423Z
DESCRIPTION:Household items\, clothing\, furniture\, jewelry\, toys\, books
  and much more!\nPartial proceeds donated to the SjSC
DTSTART;TZID=America/New_York:20220702T080000
DTEND;TZID=America/New_York:20220702T140000
LOCATION:24 Mill Street\, Ajax\, ON L1S 6K4 CA
SUMMARY:HUGE Yard Sale
END:VEVENT
END:VCALENDAR
