BEGIN:VCALENDAR
VERSION:2.0
PRODID:-//sjogrenscanada.org//NONSGML kigkonsult.se iCalcreator 2.30.10//
CALSCALE:GREGORIAN
METHOD:PUBLISH
UID:366dc51a-8870-4e6e-8074-97ca6c881a00
X-WR-CALDESC:
X-WR-RELCALID:fd2964a358a935da1fdc417d080927aa
X-WR-TIMEZONE:America/New_York
BEGIN:VTIMEZONE
TZID:America/New_York
BEGIN:STANDARD
TZNAME:EST
DTSTART:20211107T020000
TZOFFSETFROM:-0400
TZOFFSETTO:-0500
RDATE:20221106T020000
RDATE:20231105T020000
END:STANDARD
BEGIN:DAYLIGHT
TZNAME:EDT
DTSTART:20220313T020000
TZOFFSETFROM:-0500
TZOFFSETTO:-0400
RDATE:20230312T020000
END:DAYLIGHT
END:VTIMEZONE
BEGIN:VEVENT
UID:84e87863-fa47-4ed3-8938-2ba16640e427
DTSTAMP:20260422T103117Z
DESCRIPTION:
DTSTART;TZID=America/New_York:20220719T190000
DTEND;TZID=America/New_York:20220719T210000
LOCATION:https://us02web.zoom.us/j/87227652412?pwd=NUxQTFpHczBBWTViMEhUeGVU
 MlZuQT09
SUMMARY:Durham Region Support Group Meeting
END:VEVENT
END:VCALENDAR
