BEGIN:VCALENDAR
VERSION:2.0
PRODID:-//sjogrenscanada.org//NONSGML kigkonsult.se iCalcreator 2.30.10//
CALSCALE:GREGORIAN
METHOD:PUBLISH
UID:5b4c98a6-8a1d-4db3-b127-71a04f2f7952
X-WR-CALDESC:Join us for a walk through the Brockville Railway Tunnel (Cana
 da's first) followed by a walk around Blockhouse Island overlooking the be
 autiful St. Lawrence River.  Registration begins at 7PM and strolling begi
 ns at 7:30 PM at your own pace through Canada's oldest railway tunnel. Exp
 ert speakers\, door prizes\, and fun for all!
X-WR-RELCALID:658fe8602b6905a982751357b5bfd38f
X-WR-TIMEZONE:America/New_York
BEGIN:VTIMEZONE
TZID:America/New_York
BEGIN:STANDARD
TZNAME:EST
DTSTART:20211107T020000
TZOFFSETFROM:-0400
TZOFFSETTO:-0500
RDATE:20221106T020000
RDATE:20231105T020000
END:STANDARD
BEGIN:DAYLIGHT
TZNAME:EDT
DTSTART:20220313T020000
TZOFFSETFROM:-0500
TZOFFSETTO:-0400
RDATE:20230312T020000
END:DAYLIGHT
END:VTIMEZONE
BEGIN:VEVENT
UID:38b148d5-34ee-4b55-8721-f90bb37ebdef
DTSTAMP:20260422T103541Z
DESCRIPTION:Join us for a walk through the Brockville Railway Tunnel (Canad
 a's first) followed by a walk around Blockhouse Island overlooking the bea
 utiful St. Lawrence River.  Registration begins at 7PM and strolling begin
 s at 7:30 PM at your own pace through Canada's oldest railway tunnel. Expe
 rt speakers\, door prizes\, and fun for all!
DTSTART;TZID=America/New_York:20220723T190000
DTEND;TZID=America/New_York:20220723T210000
LOCATION:Brockville Railway Tunnel (south portal entrance)
SUMMARY:Summer Stroll for Sjögren's
END:VEVENT
END:VCALENDAR
