BEGIN:VCALENDAR
VERSION:2.0
PRODID:-//sjogrenscanada.org//NONSGML kigkonsult.se iCalcreator 2.30.10//
CALSCALE:GREGORIAN
METHOD:PUBLISH
UID:a40647f0-672a-43ed-a498-20dc972c8d84
X-WR-CALDESC:
X-WR-RELCALID:a450c8a34ffe7621d3b3aa3a898379bf
X-WR-TIMEZONE:America/New_York
BEGIN:VTIMEZONE
TZID:America/New_York
BEGIN:STANDARD
TZNAME:EST
DTSTART:20211107T020000
TZOFFSETFROM:-0400
TZOFFSETTO:-0500
RDATE:20221106T020000
RDATE:20231105T020000
END:STANDARD
BEGIN:DAYLIGHT
TZNAME:EDT
DTSTART:20220313T020000
TZOFFSETFROM:-0500
TZOFFSETTO:-0400
RDATE:20230312T020000
END:DAYLIGHT
END:VTIMEZONE
BEGIN:VEVENT
UID:41003e1a-0a07-40c3-a18e-1de6ce084f0c
DTSTAMP:20260422T091422Z
DESCRIPTION:
DTSTART;TZID=America/New_York:20220804T190000
DTEND;TZID=America/New_York:20220804T210000
LOCATION:
SUMMARY:Ottawa Support Group Meeting
END:VEVENT
END:VCALENDAR
