BEGIN:VCALENDAR
VERSION:2.0
PRODID:-//sjogrenscanada.org//NONSGML kigkonsult.se iCalcreator 2.30.10//
CALSCALE:GREGORIAN
METHOD:PUBLISH
UID:40855b21-292a-45cd-a8dc-aa28e78adbe3
X-WR-CALDESC:
X-WR-RELCALID:5ccb28b29629a8da1cfa679e1614114d
X-WR-TIMEZONE:America/New_York
BEGIN:VTIMEZONE
TZID:America/New_York
BEGIN:STANDARD
TZNAME:EST
DTSTART:20211107T020000
TZOFFSETFROM:-0400
TZOFFSETTO:-0500
RDATE:20221106T020000
RDATE:20231105T020000
END:STANDARD
BEGIN:DAYLIGHT
TZNAME:EDT
DTSTART:20220313T020000
TZOFFSETFROM:-0500
TZOFFSETTO:-0400
RDATE:20230312T020000
END:DAYLIGHT
END:VTIMEZONE
BEGIN:VEVENT
UID:31f04e26-d60e-44cc-b694-630a89172455
DTSTAMP:20260422T091429Z
DESCRIPTION:
DTSTART;TZID=America/New_York:20220830T190000
DTEND;TZID=America/New_York:20220830T210000
LOCATION:https://us02web.zoom.us/j/81661752901?pwd=YzdReW9jMmpFZ2FDMGZhNWdH
 YXNiUT09
SUMMARY:Durham Region Support Group Meeting
END:VEVENT
END:VCALENDAR
