BEGIN:VCALENDAR
VERSION:2.0
PRODID:-//sjogrenscanada.org//NONSGML kigkonsult.se iCalcreator 2.30.10//
CALSCALE:GREGORIAN
METHOD:PUBLISH
UID:d5ad1f5b-8d43-451c-850e-1aa808469f5e
X-WR-CALDESC:
X-WR-RELCALID:367c1d81f6d77121be417ba2af1ca594
X-WR-TIMEZONE:America/New_York
BEGIN:VTIMEZONE
TZID:America/New_York
BEGIN:STANDARD
TZNAME:EST
DTSTART:20211107T020000
TZOFFSETFROM:-0400
TZOFFSETTO:-0500
RDATE:20221106T020000
RDATE:20231105T020000
END:STANDARD
BEGIN:DAYLIGHT
TZNAME:EDT
DTSTART:20220313T020000
TZOFFSETFROM:-0500
TZOFFSETTO:-0400
RDATE:20230312T020000
END:DAYLIGHT
END:VTIMEZONE
BEGIN:VEVENT
UID:478dba5c-be6d-405b-84f7-26c44e591a87
DTSTAMP:20260422T091025Z
DESCRIPTION:
DTSTART;TZID=America/New_York:20220831T190000
DTEND;TZID=America/New_York:20220831T210000
LOCATION:https://us02web.zoom.us/j/88984731653?pwd=dkhSWUl2cGFrTHM3K2dnczFx
 RDFFUT09
SUMMARY:Brantford/Paris Support Group Meeting
END:VEVENT
END:VCALENDAR
