BEGIN:VCALENDAR
VERSION:2.0
PRODID:-//sjogrenscanada.org//NONSGML kigkonsult.se iCalcreator 2.30.10//
CALSCALE:GREGORIAN
METHOD:PUBLISH
UID:e4ef2e88-bfac-4f19-800e-864b48c0d595
X-WR-CALDESC:
X-WR-RELCALID:1cd8131ab0bc28abc1c23d6a774d8f92
X-WR-TIMEZONE:America/New_York
BEGIN:VTIMEZONE
TZID:America/New_York
BEGIN:STANDARD
TZNAME:EST
DTSTART:20211107T020000
TZOFFSETFROM:-0400
TZOFFSETTO:-0500
RDATE:20221106T020000
RDATE:20231105T020000
END:STANDARD
BEGIN:DAYLIGHT
TZNAME:EDT
DTSTART:20220313T020000
TZOFFSETFROM:-0500
TZOFFSETTO:-0400
RDATE:20230312T020000
RDATE:20240310T020000
END:DAYLIGHT
END:VTIMEZONE
BEGIN:VEVENT
UID:1c39ded3-afd1-47d2-8b88-0d81d72c679b
DTSTAMP:20260422T074140Z
DESCRIPTION:
DTSTART;TZID=America/New_York:20220917T100000
DTEND;TZID=America/New_York:20220917T120000
LOCATION:31 Mechanic Street\, Paris\, ON N3L 1K1 CA
SUMMARY:Paris Walk for Sjögren's
END:VEVENT
END:VCALENDAR
