BEGIN:VCALENDAR
VERSION:2.0
PRODID:-//sjogrenscanada.org//NONSGML kigkonsult.se iCalcreator 2.30.10//
CALSCALE:GREGORIAN
METHOD:PUBLISH
UID:19511fce-cb65-4e1b-8dd2-8a25b416af28
X-WR-CALDESC:Guest Speaker - Annette McKinnon\, Former SjSC Board of Direct
 or Member
X-WR-RELCALID:4019353df247a71e1b0854b51a05c276
X-WR-TIMEZONE:America/Chicago
BEGIN:VTIMEZONE
TZID:America/Chicago
BEGIN:STANDARD
TZNAME:CST
DTSTART:20211107T020000
TZOFFSETFROM:-0500
TZOFFSETTO:-0600
RDATE:20221106T020000
RDATE:20231105T020000
END:STANDARD
BEGIN:DAYLIGHT
TZNAME:CDT
DTSTART:20220313T020000
TZOFFSETFROM:-0600
TZOFFSETTO:-0500
RDATE:20230312T020000
RDATE:20240310T020000
END:DAYLIGHT
END:VTIMEZONE
BEGIN:VEVENT
UID:85f72068-5abc-46b7-bb42-881932ca65c8
DTSTAMP:20260422T074232Z
DESCRIPTION:Guest Speaker - Annette McKinnon\, Former SjSC Board of Directo
 r Member
DTSTART;TZID=America/Chicago:20220920T183000
DTEND;TZID=America/Chicago:20220920T203000
LOCATION:https://us02web.zoom.us/j/88928461925?pwd=RDRPeEQzUnFEY09yK2VINXgx
 MjZNdz09
SUMMARY:Manitoba Support Group Meeting
END:VEVENT
END:VCALENDAR
