BEGIN:VCALENDAR
VERSION:2.0
PRODID:-//sjogrenscanada.org//NONSGML kigkonsult.se iCalcreator 2.30.10//
CALSCALE:GREGORIAN
METHOD:PUBLISH
UID:912ce5a9-a888-43b7-8224-4fd2c2afd3c7
X-WR-CALDESC:'Diagnosis and treatment of burning tongue and taste loss in S
 jögren’s'
X-WR-RELCALID:f29551ca062fcaba4c02c41918c8cabb
X-WR-TIMEZONE:America/New_York
BEGIN:VTIMEZONE
TZID:America/New_York
BEGIN:STANDARD
TZNAME:EST
DTSTART:20211107T020000
TZOFFSETFROM:-0400
TZOFFSETTO:-0500
RDATE:20221106T020000
RDATE:20231105T020000
END:STANDARD
BEGIN:DAYLIGHT
TZNAME:EDT
DTSTART:20220313T020000
TZOFFSETFROM:-0500
TZOFFSETTO:-0400
RDATE:20230312T020000
RDATE:20240310T020000
END:DAYLIGHT
END:VTIMEZONE
BEGIN:VEVENT
UID:85f4b740-9490-4a8c-9ab0-5049bffe07a4
DTSTAMP:20260422T073519Z
DESCRIPTION:'Diagnosis and treatment of burning tongue and taste loss in Sj
 ögren’s'
DTSTART;TZID=America/New_York:20220921T190000
DTEND;TZID=America/New_York:20220921T203000
LOCATION:https://us02web.zoom.us/webinar/register/WN_zhsREFdWTHaq46YyyYLxoQ
SUMMARY:Members Only Virtual Town Hall - Dr. Miriam Grushka
END:VEVENT
END:VCALENDAR
