BEGIN:VCALENDAR
VERSION:2.0
PRODID:-//sjogrenscanada.org//NONSGML kigkonsult.se iCalcreator 2.30.10//
CALSCALE:GREGORIAN
METHOD:PUBLISH
UID:da1f4b7e-c647-4f35-8f2b-551fbfa6a4ac
X-WR-CALDESC:Sharing & Caring
X-WR-RELCALID:ed9f347473bfc113743b8518497e4183
X-WR-TIMEZONE:America/New_York
BEGIN:VTIMEZONE
TZID:America/New_York
BEGIN:STANDARD
TZNAME:EST
DTSTART:20211107T020000
TZOFFSETFROM:-0400
TZOFFSETTO:-0500
RDATE:20221106T020000
RDATE:20231105T020000
END:STANDARD
BEGIN:DAYLIGHT
TZNAME:EDT
DTSTART:20220313T020000
TZOFFSETFROM:-0500
TZOFFSETTO:-0400
RDATE:20230312T020000
RDATE:20240310T020000
END:DAYLIGHT
END:VTIMEZONE
BEGIN:VEVENT
UID:0b681fa5-c1ea-4d58-993b-273a9d794c07
DTSTAMP:20260422T073342Z
DESCRIPTION:Sharing & Caring
DTSTART;TZID=America/New_York:20220929T190000
DTEND;TZID=America/New_York:20220929T210000
LOCATION:https://us02web.zoom.us/j/83802839227?pwd=T01hcUN6c0FnR3d4aG1ueU9B
 aFNUdz09
SUMMARY:Durham Region Support Group Meeting
END:VEVENT
END:VCALENDAR
