BEGIN:VCALENDAR
VERSION:2.0
PRODID:-//sjogrenscanada.org//NONSGML kigkonsult.se iCalcreator 2.30.10//
CALSCALE:GREGORIAN
METHOD:PUBLISH
UID:60082100-dd6c-463f-aef6-24f6657dfb04
X-WR-CALDESC:
X-WR-RELCALID:605e92af765411e88600f7037b650529
X-WR-TIMEZONE:America/New_York
BEGIN:VTIMEZONE
TZID:America/New_York
BEGIN:STANDARD
TZNAME:EST
DTSTART:20211107T020000
TZOFFSETFROM:-0400
TZOFFSETTO:-0500
RDATE:20221106T020000
RDATE:20231105T020000
END:STANDARD
BEGIN:DAYLIGHT
TZNAME:EDT
DTSTART:20220313T020000
TZOFFSETFROM:-0500
TZOFFSETTO:-0400
RDATE:20230312T020000
RDATE:20240310T020000
END:DAYLIGHT
END:VTIMEZONE
BEGIN:VEVENT
UID:909752f5-4523-4a8b-b39f-48249d1da4b8
DTSTAMP:20260422T055809Z
DESCRIPTION:
DTSTART;TZID=America/New_York:20221001T140000
DTEND;TZID=America/New_York:20221001T160000
LOCATION:Springbank Gardens (Guy Lombardo Pavilion)\, 285 Wonderland Road S
 outh\, London\, ON N6K 3T3 CA
SUMMARY:London Walk for Sjögren's
END:VEVENT
END:VCALENDAR
