BEGIN:VCALENDAR
VERSION:2.0
PRODID:-//sjogrenscanada.org//NONSGML kigkonsult.se iCalcreator 2.30.10//
CALSCALE:GREGORIAN
METHOD:PUBLISH
UID:ffd1bbc5-42e8-46e9-958b-d7cf0c1d6fc7
X-WR-CALDESC:Sharing & Caring
X-WR-RELCALID:2e01adb84d63759f11400a88fb34d5bb
X-WR-TIMEZONE:America/New_York
BEGIN:VTIMEZONE
TZID:America/New_York
BEGIN:STANDARD
TZNAME:EST
DTSTART:20211107T020000
TZOFFSETFROM:-0400
TZOFFSETTO:-0500
RDATE:20221106T020000
RDATE:20231105T020000
END:STANDARD
BEGIN:DAYLIGHT
TZNAME:EDT
DTSTART:20220313T020000
TZOFFSETFROM:-0500
TZOFFSETTO:-0400
RDATE:20230312T020000
RDATE:20240310T020000
END:DAYLIGHT
END:VTIMEZONE
BEGIN:VEVENT
UID:6753c924-47c4-45cb-9040-89b2eb19703f
DTSTAMP:20260422T055925Z
DESCRIPTION:Sharing & Caring
DTSTART;TZID=America/New_York:20221026T190000
DTEND;TZID=America/New_York:20221026T210000
LOCATION:https://us02web.zoom.us/j/88943056873?pwd=cjNvdlVyV2ZERW9RMWJnMjRi
 WEErQT09
SUMMARY:Durham Region Support Group Meeting
END:VEVENT
END:VCALENDAR
