BEGIN:VCALENDAR
VERSION:2.0
PRODID:-//sjogrenscanada.org//NONSGML kigkonsult.se iCalcreator 2.30.10//
CALSCALE:GREGORIAN
METHOD:PUBLISH
UID:eadd4807-7672-4550-a52a-5897b09b1d6b
X-WR-CALDESC:Sharing & Caring
X-WR-RELCALID:200ac8178f00fd82861350df8dc7f6f3
X-WR-TIMEZONE:America/Regina
BEGIN:VTIMEZONE
TZID:America/Regina
BEGIN:STANDARD
TZNAME:CST
DTSTART:20210125T060000
TZOFFSETFROM:+0000
TZOFFSETTO:-0600
END:STANDARD
END:VTIMEZONE
BEGIN:VEVENT
UID:5af9590c-d0dc-4029-92e7-234f09030cb1
DTSTAMP:20260422T055925Z
DESCRIPTION:Sharing & Caring
DTSTART;TZID=America/Regina:20221027T180000
DTEND;TZID=America/Regina:20221027T200000
LOCATION:https://us02web.zoom.us/j/83353512872?pwd=NkRGeFl0VTV1MVR6ZDVoQ0ZL
 NDhKUT09
SUMMARY:Saskatchewan Support Group Meeting
END:VEVENT
END:VCALENDAR
