BEGIN:VCALENDAR
VERSION:2.0
PRODID:-//sjogrenscanada.org//NONSGML kigkonsult.se iCalcreator 2.30.10//
CALSCALE:GREGORIAN
METHOD:PUBLISH
UID:9db59f14-2072-459f-b3b2-4c9c585d286d
X-WR-CALDESC:
X-WR-RELCALID:b2215ea540d15956cd1867dfc211797f
X-WR-TIMEZONE:America/New_York
BEGIN:VTIMEZONE
TZID:America/New_York
BEGIN:STANDARD
TZNAME:EST
DTSTART:20211107T020000
TZOFFSETFROM:-0400
TZOFFSETTO:-0500
RDATE:20221106T020000
RDATE:20231105T020000
END:STANDARD
BEGIN:DAYLIGHT
TZNAME:EDT
DTSTART:20220313T020000
TZOFFSETFROM:-0500
TZOFFSETTO:-0400
RDATE:20230312T020000
RDATE:20240310T020000
END:DAYLIGHT
END:VTIMEZONE
BEGIN:VEVENT
UID:ebfc21bc-2d35-426a-b4c3-756b006f683f
DTSTAMP:20260422T042159Z
DESCRIPTION:
DTSTART;TZID=America/New_York:20221101T183000
DTEND;TZID=America/New_York:20221101T193000
LOCATION:https://us02web.zoom.us/j/85306966441?pwd=RElLLzVTNEpod2hmTWJ3cCtP
 NGdSZz09
SUMMARY:Conference Committee Meeting
END:VEVENT
END:VCALENDAR
