BEGIN:VCALENDAR
VERSION:2.0
PRODID:-//sjogrenscanada.org//NONSGML kigkonsult.se iCalcreator 2.30.10//
CALSCALE:GREGORIAN
METHOD:PUBLISH
UID:d8acdf42-1892-4c34-856b-4db5befc37e8
X-WR-CALDESC:Guest Speaker - Connie Hack\, Restorative Dental Hygienist
X-WR-RELCALID:c50f30eddf81a38b41da503965f90cbe
X-WR-TIMEZONE:America/Chicago
BEGIN:VTIMEZONE
TZID:America/Chicago
BEGIN:STANDARD
TZNAME:CST
DTSTART:20221106T020000
TZOFFSETFROM:-0500
TZOFFSETTO:-0600
RDATE:20231105T020000
END:STANDARD
BEGIN:DAYLIGHT
TZNAME:CDT
DTSTART:20220313T020000
TZOFFSETFROM:-0600
TZOFFSETTO:-0500
RDATE:20230312T020000
RDATE:20240310T020000
END:DAYLIGHT
END:VTIMEZONE
BEGIN:VEVENT
UID:6b034966-d17b-4458-8551-250b4a7fa984
DTSTAMP:20260422T042036Z
DESCRIPTION:Guest Speaker - Connie Hack\, Restorative Dental Hygienist
DTSTART;TZID=America/Chicago:20221108T183000
DTEND;TZID=America/Chicago:20221108T203000
LOCATION:https://us02web.zoom.us/j/86561589658?pwd=VXpiK2IzZ1FHbXZwa0w3ajhk
 TDRFZz09
SUMMARY:Manitoba Support Group Meeting
END:VEVENT
END:VCALENDAR
