BEGIN:VCALENDAR
VERSION:2.0
PRODID:-//sjogrenscanada.org//NONSGML kigkonsult.se iCalcreator 2.30.10//
CALSCALE:GREGORIAN
METHOD:PUBLISH
UID:471948a5-9f6e-4f90-b420-f9622001d9a2
X-WR-CALDESC:Sharing & Caring
X-WR-RELCALID:87fa79927fee273a2db4802e30b7d216
X-WR-TIMEZONE:America/Denver
BEGIN:VTIMEZONE
TZID:America/Denver
BEGIN:STANDARD
TZNAME:MST
DTSTART:20221106T020000
TZOFFSETFROM:-0600
TZOFFSETTO:-0700
RDATE:20231105T020000
END:STANDARD
BEGIN:DAYLIGHT
TZNAME:MDT
DTSTART:20220313T020000
TZOFFSETFROM:-0700
TZOFFSETTO:-0600
RDATE:20230312T020000
RDATE:20240310T020000
END:DAYLIGHT
END:VTIMEZONE
BEGIN:VEVENT
UID:0340b797-63ab-4cf3-97ce-500d74c0a322
DTSTAMP:20260422T041827Z
DESCRIPTION:Sharing & Caring
DTSTART;TZID=America/Denver:20221115T170000
DTEND;TZID=America/Denver:20221115T190000
LOCATION:https://us02web.zoom.us/j/83249656279?pwd=bjhNbFVUTkxBRU9sVXBvZmth
 T2ZVUT09
SUMMARY:Edmonton Support Group Meeting
END:VEVENT
END:VCALENDAR
