BEGIN:VCALENDAR
VERSION:2.0
PRODID:-//sjogrenscanada.org//NONSGML kigkonsult.se iCalcreator 2.30.10//
CALSCALE:GREGORIAN
METHOD:PUBLISH
UID:c7b5f8d2-8716-40c0-8d60-01d1b62b5053
X-WR-CALDESC:Updates from the SjSC\, London Walk for Sjögren’s\nLots of FRE
 E Samples!
X-WR-RELCALID:1e11bc07148c537d25b03afa5f780faa
X-WR-TIMEZONE:America/New_York
BEGIN:VTIMEZONE
TZID:America/New_York
BEGIN:STANDARD
TZNAME:EST
DTSTART:20221106T020000
TZOFFSETFROM:-0400
TZOFFSETTO:-0500
RDATE:20231105T020000
END:STANDARD
BEGIN:DAYLIGHT
TZNAME:EDT
DTSTART:20220313T020000
TZOFFSETFROM:-0500
TZOFFSETTO:-0400
RDATE:20230312T020000
RDATE:20240310T020000
END:DAYLIGHT
END:VTIMEZONE
BEGIN:VEVENT
UID:f643f40c-3436-46f4-ae3c-4d363eef7179
DTSTAMP:20260422T042333Z
DESCRIPTION:Updates from the SjSC\, London Walk for Sjögren’s\nLots of FREE
  Samples!
DTSTART;TZID=America/New_York:20221119T110000
DTEND;TZID=America/New_York:20221119T130000
LOCATION:Family Circle Restaurant\, 147 Wellington St.\, London\, ON N6B 2K
 7 CA
SUMMARY:London Support Group Meeting
END:VEVENT
END:VCALENDAR
