BEGIN:VCALENDAR
VERSION:2.0
PRODID:-//sjogrenscanada.org//NONSGML kigkonsult.se iCalcreator 2.30.10//
CALSCALE:GREGORIAN
METHOD:PUBLISH
UID:8dbd51d3-d56f-4c56-8ff5-a58c87a58624
X-WR-CALDESC:Guest Speaker - Dr. Jayne-Ann Chatten\, Naturopathic Doctor
X-WR-RELCALID:1fad6a2417fde245bd10d7127176451b
X-WR-TIMEZONE:America/New_York
BEGIN:VTIMEZONE
TZID:America/New_York
BEGIN:STANDARD
TZNAME:EST
DTSTART:20221106T020000
TZOFFSETFROM:-0400
TZOFFSETTO:-0500
RDATE:20231105T020000
END:STANDARD
BEGIN:DAYLIGHT
TZNAME:EDT
DTSTART:20220313T020000
TZOFFSETFROM:-0500
TZOFFSETTO:-0400
RDATE:20230312T020000
RDATE:20240310T020000
END:DAYLIGHT
END:VTIMEZONE
BEGIN:VEVENT
UID:860d061e-3a50-44b4-b0cf-4a7411c6acf2
DTSTAMP:20260422T042359Z
DESCRIPTION:Guest Speaker - Dr. Jayne-Ann Chatten\, Naturopathic Doctor
DTSTART;TZID=America/New_York:20221122T190000
DTEND;TZID=America/New_York:20221122T210000
LOCATION:https://us02web.zoom.us/j/84664886729?pwd=bTBhYmkwc28xWkk4bmN3Rkk4
 amFWQT09
SUMMARY:Durham Region Support Group Meeting
END:VEVENT
END:VCALENDAR
