BEGIN:VCALENDAR
VERSION:2.0
PRODID:-//sjogrenscanada.org//NONSGML kigkonsult.se iCalcreator 2.30.10//
CALSCALE:GREGORIAN
METHOD:PUBLISH
UID:a9d77668-01b4-4699-8dff-6d07854c7f82
X-WR-CALDESC:
X-WR-RELCALID:e229d16355358a6e9379cea94cbe27d8
X-WR-TIMEZONE:America/New_York
BEGIN:VTIMEZONE
TZID:America/New_York
BEGIN:STANDARD
TZNAME:EST
DTSTART:20221106T020000
TZOFFSETFROM:-0400
TZOFFSETTO:-0500
RDATE:20231105T020000
END:STANDARD
BEGIN:DAYLIGHT
TZNAME:EDT
DTSTART:20220313T020000
TZOFFSETFROM:-0500
TZOFFSETTO:-0400
RDATE:20230312T020000
RDATE:20240310T020000
END:DAYLIGHT
END:VTIMEZONE
BEGIN:VEVENT
UID:4314617e-018f-4b98-912f-993b914ea7bd
DTSTAMP:20260422T042030Z
DESCRIPTION:
DTSTART;TZID=America/New_York:20221129T000000
DTEND;TZID=America/New_York:20221129T235900
LOCATION:https://www.canadahelps.org/en/dn/m/76156
SUMMARY:GIVINGTUESDAY!
END:VEVENT
END:VCALENDAR
