BEGIN:VCALENDAR
VERSION:2.0
PRODID:-//sjogrenscanada.org//NONSGML kigkonsult.se iCalcreator 2.30.10//
CALSCALE:GREGORIAN
METHOD:PUBLISH
UID:75a7c2f9-55b4-4b66-baf7-576f7e03636d
X-WR-CALDESC:Bone Dry - Intimacy & Chronic Disease
X-WR-RELCALID:18d7b78b427fbea9c3767fcede9c927d
X-WR-TIMEZONE:America/New_York
BEGIN:VTIMEZONE
TZID:America/New_York
BEGIN:STANDARD
TZNAME:EST
DTSTART:20221106T020000
TZOFFSETFROM:-0400
TZOFFSETTO:-0500
RDATE:20231105T020000
END:STANDARD
BEGIN:DAYLIGHT
TZNAME:EDT
DTSTART:20220313T020000
TZOFFSETFROM:-0500
TZOFFSETTO:-0400
RDATE:20230312T020000
RDATE:20240310T020000
END:DAYLIGHT
END:VTIMEZONE
BEGIN:VEVENT
UID:fc9c5459-a19b-429c-b157-ba12a7540bd7
DTSTAMP:20260422T041717Z
DESCRIPTION:Bone Dry - Intimacy & Chronic Disease
DTSTART;TZID=America/New_York:20221129T190000
DTEND;TZID=America/New_York:20221129T203000
LOCATION:https://us02web.zoom.us/webinar/register/WN_bTD1t_HHTv-YDT8tByhYhQ
SUMMARY:Members Only Virtual Town Hall - Iris Zink\, Rheumatology Nurse Pra
 ctitioner
END:VEVENT
END:VCALENDAR
