BEGIN:VCALENDAR
VERSION:2.0
PRODID:-//sjogrenscanada.org//NONSGML kigkonsult.se iCalcreator 2.30.10//
CALSCALE:GREGORIAN
METHOD:PUBLISH
UID:38bd4074-3998-4e55-b1ac-c01fb85d484a
X-WR-CALDESC:Review news and updates from Sjögren’s Society\, Share our exp
 eriences and coping strategies.
X-WR-RELCALID:01bb517e0368cc02cf447802adc5b8e3
X-WR-TIMEZONE:America/St_Johns
BEGIN:VTIMEZONE
TZID:America/St_Johns
BEGIN:STANDARD
TZNAME:NST
DTSTART:20221106T020000
TZOFFSETFROM:-0230
TZOFFSETTO:-0330
RDATE:20231105T020000
END:STANDARD
BEGIN:DAYLIGHT
TZNAME:NDT
DTSTART:20220313T020000
TZOFFSETFROM:-0330
TZOFFSETTO:-0230
RDATE:20230312T020000
RDATE:20240310T020000
END:DAYLIGHT
END:VTIMEZONE
BEGIN:VEVENT
UID:1b5abec9-b520-4ce8-860a-ce905a81be98
DTSTAMP:20260422T042318Z
DESCRIPTION:Review news and updates from Sjögren’s Society\, Share our expe
 riences and coping strategies.
DTSTART;TZID=America/St_Johns:20221130T210000
DTEND;TZID=America/St_Johns:20221130T223000
LOCATION:
SUMMARY:Atlantic Canada Support Group Meeting
END:VEVENT
END:VCALENDAR
