BEGIN:VCALENDAR
VERSION:2.0
PRODID:-//sjogrenscanada.org//NONSGML kigkonsult.se iCalcreator 2.30.10//
CALSCALE:GREGORIAN
METHOD:PUBLISH
UID:c88fa222-350d-422f-9b90-b01f0ed8c82b
X-WR-CALDESC:Sharing & Caring
X-WR-RELCALID:91d27a999663756122ac65df1c54db89
X-WR-TIMEZONE:America/New_York
BEGIN:VTIMEZONE
TZID:America/New_York
BEGIN:STANDARD
TZNAME:EST
DTSTART:20221106T020000
TZOFFSETFROM:-0400
TZOFFSETTO:-0500
RDATE:20231105T020000
END:STANDARD
BEGIN:DAYLIGHT
TZNAME:EDT
DTSTART:20220313T020000
TZOFFSETFROM:-0500
TZOFFSETTO:-0400
RDATE:20230312T020000
RDATE:20240310T020000
END:DAYLIGHT
END:VTIMEZONE
BEGIN:VEVENT
UID:ff5edda1-2fdc-44df-88cf-5fa2f27b8b43
DTSTAMP:20260422T004612Z
DESCRIPTION:Sharing & Caring
DTSTART;TZID=America/New_York:20230117T190000
DTEND;TZID=America/New_York:20230117T203000
LOCATION:https://us02web.zoom.us/j/81140585179?pwd=OWZQRGxycytaUkRMWkpjeEh6
 d0RQUT09
SUMMARY:Montreal Support Group Meeting
END:VEVENT
END:VCALENDAR
