BEGIN:VCALENDAR
VERSION:2.0
PRODID:-//sjogrenscanada.org//NONSGML kigkonsult.se iCalcreator 2.30.10//
CALSCALE:GREGORIAN
METHOD:PUBLISH
UID:7c2ac067-6189-4d9f-a035-5d0515cc6df6
X-WR-CALDESC:Sharing & Caring
X-WR-RELCALID:7c84da0b79154e01a1c0200ff22cccd6
X-WR-TIMEZONE:America/New_York
BEGIN:VTIMEZONE
TZID:America/New_York
BEGIN:STANDARD
TZNAME:EST
DTSTART:20221106T020000
TZOFFSETFROM:-0400
TZOFFSETTO:-0500
RDATE:20231105T020000
END:STANDARD
BEGIN:DAYLIGHT
TZNAME:EDT
DTSTART:20220313T020000
TZOFFSETFROM:-0500
TZOFFSETTO:-0400
RDATE:20230312T020000
RDATE:20240310T020000
END:DAYLIGHT
END:VTIMEZONE
BEGIN:VEVENT
UID:dfdcee27-3fc3-4592-a4af-fd03836b39a0
DTSTAMP:20260422T004502Z
DESCRIPTION:Sharing & Caring
DTSTART;TZID=America/New_York:20230118T190000
DTEND;TZID=America/New_York:20230118T210000
LOCATION:https://us02web.zoom.us/j/81492105268?pwd=aysxVTBuTHM5dDdvNnIxdTBT
 SmgyQT09
SUMMARY:Durham Region Support Group Meeting
END:VEVENT
END:VCALENDAR
