BEGIN:VCALENDAR
VERSION:2.0
PRODID:-//sjogrenscanada.org//NONSGML kigkonsult.se iCalcreator 2.30.10//
CALSCALE:GREGORIAN
METHOD:PUBLISH
UID:4fb3a894-29c9-46e9-ba5d-a901d2e53b32
X-WR-CALDESC:Sharing & Caring
X-WR-RELCALID:6d2ffd8bc4507f70aec732f65809fd59
X-WR-TIMEZONE:America/Chicago
BEGIN:VTIMEZONE
TZID:America/Chicago
BEGIN:STANDARD
TZNAME:CST
DTSTART:20221106T020000
TZOFFSETFROM:-0500
TZOFFSETTO:-0600
RDATE:20231105T020000
END:STANDARD
BEGIN:DAYLIGHT
TZNAME:CDT
DTSTART:20220313T020000
TZOFFSETFROM:-0600
TZOFFSETTO:-0500
RDATE:20230312T020000
RDATE:20240310T020000
END:DAYLIGHT
END:VTIMEZONE
BEGIN:VEVENT
UID:6ac39145-9bc0-4b79-be83-91767decd2f4
DTSTAMP:20260422T004917Z
DESCRIPTION:Sharing & Caring
DTSTART;TZID=America/Chicago:20230119T183000
DTEND;TZID=America/Chicago:20230119T203000
LOCATION:https://us02web.zoom.us/j/84458776364?pwd=UXpGdkF0Q25ZeDhNVkFLcFdl
 RFZ5QT09
SUMMARY:Manitoba Support Group Meeting
END:VEVENT
END:VCALENDAR
