BEGIN:VCALENDAR
VERSION:2.0
PRODID:-//sjogrenscanada.org//NONSGML kigkonsult.se iCalcreator 2.30.10//
CALSCALE:GREGORIAN
METHOD:PUBLISH
UID:1a70a5e7-3019-4f14-bbf3-d1ba3581166d
X-WR-CALDESC:
X-WR-RELCALID:19f008a89221f391506a7d323a2b029a
X-WR-TIMEZONE:America/New_York
BEGIN:VTIMEZONE
TZID:America/New_York
BEGIN:STANDARD
TZNAME:EST
DTSTART:20221106T020000
TZOFFSETFROM:-0400
TZOFFSETTO:-0500
RDATE:20231105T020000
END:STANDARD
BEGIN:DAYLIGHT
TZNAME:EDT
DTSTART:20220313T020000
TZOFFSETFROM:-0500
TZOFFSETTO:-0400
RDATE:20230312T020000
RDATE:20240310T020000
END:DAYLIGHT
END:VTIMEZONE
BEGIN:VEVENT
UID:33e4108a-5f6e-4cf0-97fb-9ca5885b9893
DTSTAMP:20260422T004843Z
DESCRIPTION:
DTSTART;TZID=America/New_York:20230119T190000
DTEND;TZID=America/New_York:20230119T210000
LOCATION:https://carleton-ca.zoom.us/j/94810843241
SUMMARY:Ottawa Support Group Meeting
END:VEVENT
END:VCALENDAR
