BEGIN:VCALENDAR
VERSION:2.0
PRODID:-//sjogrenscanada.org//NONSGML kigkonsult.se iCalcreator 2.30.10//
CALSCALE:GREGORIAN
METHOD:PUBLISH
UID:856cba7d-2a06-47fe-80e3-2c27e3b50db8
X-WR-CALDESC:Sharing & Caring
X-WR-RELCALID:b46540fa1a16a2104e58382a9cd41956
X-WR-TIMEZONE:America/Denver
BEGIN:VTIMEZONE
TZID:America/Denver
BEGIN:STANDARD
TZNAME:MST
DTSTART:20221106T020000
TZOFFSETFROM:-0600
TZOFFSETTO:-0700
RDATE:20231105T020000
END:STANDARD
BEGIN:DAYLIGHT
TZNAME:MDT
DTSTART:20220313T020000
TZOFFSETFROM:-0700
TZOFFSETTO:-0600
RDATE:20230312T020000
RDATE:20240310T020000
END:DAYLIGHT
END:VTIMEZONE
BEGIN:VEVENT
UID:b8902fd0-63b3-4f04-a8a6-ec7695e8027d
DTSTAMP:20260421T230410Z
DESCRIPTION:Sharing & Caring
DTSTART;TZID=America/Denver:20230215T180000
DTEND;TZID=America/Denver:20230215T190000
LOCATION:https://ovivowater.zoom.us/j/97289773485?pwd=Vy8zQ2o5eWpMY2hsU3NhN
 TBBcXlVUT09
SUMMARY:Calgary Support Group Meeting
END:VEVENT
END:VCALENDAR
