BEGIN:VCALENDAR
VERSION:2.0
PRODID:-//sjogrenscanada.org//NONSGML kigkonsult.se iCalcreator 2.30.10//
CALSCALE:GREGORIAN
METHOD:PUBLISH
UID:5393a8b9-c2fc-4cb0-a32f-58da476fb093
X-WR-CALDESC:Sharing & Caring
X-WR-RELCALID:f65ad548aa6993dc12b252091ee5c398
X-WR-TIMEZONE:America/New_York
BEGIN:VTIMEZONE
TZID:America/New_York
BEGIN:STANDARD
TZNAME:EST
DTSTART:20221106T020000
TZOFFSETFROM:-0400
TZOFFSETTO:-0500
RDATE:20231105T020000
END:STANDARD
BEGIN:DAYLIGHT
TZNAME:EDT
DTSTART:20220313T020000
TZOFFSETFROM:-0500
TZOFFSETTO:-0400
RDATE:20230312T020000
RDATE:20240310T020000
END:DAYLIGHT
END:VTIMEZONE
BEGIN:VEVENT
UID:68035a86-0ff6-4e2a-8384-add30fb4da6d
DTSTAMP:20260421T230903Z
DESCRIPTION:Sharing & Caring
DTSTART;TZID=America/New_York:20230215T190000
DTEND;TZID=America/New_York:20230215T210000
LOCATION:https://us02web.zoom.us/j/88528894567?pwd=MFhDQWtOYWo0SDV1cXZwZ2w5
 L0ExQT09
SUMMARY:Durham Region Support Group Meeting
END:VEVENT
END:VCALENDAR
