BEGIN:VCALENDAR
VERSION:2.0
PRODID:-//sjogrenscanada.org//NONSGML kigkonsult.se iCalcreator 2.30.10//
CALSCALE:GREGORIAN
METHOD:PUBLISH
UID:87823f8f-278d-4614-b918-3c58759bc2d2
X-WR-CALDESC:Dr. Arthur Bookman\, 'Sjögren's and Long Covid'
X-WR-RELCALID:6e6815dc2dcda8456fae3934c9fae3c5
X-WR-TIMEZONE:America/New_York
BEGIN:VTIMEZONE
TZID:America/New_York
BEGIN:STANDARD
TZNAME:EST
DTSTART:20221106T020000
TZOFFSETFROM:-0400
TZOFFSETTO:-0500
RDATE:20231105T020000
END:STANDARD
BEGIN:DAYLIGHT
TZNAME:EDT
DTSTART:20220313T020000
TZOFFSETFROM:-0500
TZOFFSETTO:-0400
RDATE:20230312T020000
RDATE:20240310T020000
END:DAYLIGHT
END:VTIMEZONE
BEGIN:VEVENT
UID:db00c63c-eb32-47ae-8866-67b9974afc6d
DTSTAMP:20260421T224937Z
DESCRIPTION:Dr. Arthur Bookman\, 'Sjögren's and Long Covid'
DTSTART;TZID=America/New_York:20230223T190000
DTEND;TZID=America/New_York:20230223T203000
LOCATION:https://us02web.zoom.us/webinar/register/WN_swC9CF2SQ1aTmX6eIHnsHg
SUMMARY:Members Only Virtual Town Hall
END:VEVENT
END:VCALENDAR
