BEGIN:VCALENDAR
VERSION:2.0
PRODID:-//sjogrenscanada.org//NONSGML kigkonsult.se iCalcreator 2.30.10//
CALSCALE:GREGORIAN
METHOD:PUBLISH
UID:13f4cfb6-5294-49f9-8662-9cf2c319a915
X-WR-CALDESC:
X-WR-RELCALID:9c5fa725b3377c128613740b552b2c97
X-WR-TIMEZONE:America/Regina
BEGIN:VTIMEZONE
TZID:America/Regina
BEGIN:STANDARD
TZNAME:CST
DTSTART:20210607T060000
TZOFFSETFROM:+0000
TZOFFSETTO:-0600
END:STANDARD
END:VTIMEZONE
BEGIN:VEVENT
UID:24880a9b-3e5a-4548-9ec8-5ba97d7b5a0b
DTSTAMP:20260421T213218Z
DESCRIPTION:
DTSTART;TZID=America/Regina:20230309T180000
DTEND;TZID=America/Regina:20230309T200000
LOCATION:https://us02web.zoom.us/j/88214979989?pwd=dTliMmZsZkh5TlJxbmhKWGlz
 a2xidz09
SUMMARY:Saskatchewan Support Group Meeting
END:VEVENT
END:VCALENDAR
