BEGIN:VCALENDAR
VERSION:2.0
PRODID:-//sjogrenscanada.org//NONSGML kigkonsult.se iCalcreator 2.30.10//
CALSCALE:GREGORIAN
METHOD:PUBLISH
UID:d344c449-0210-4dbe-bc03-28f4d7ddb7e0
X-WR-CALDESC:Sharing & Caring
X-WR-RELCALID:881433b74fa5ccce9987a45e281d9163
X-WR-TIMEZONE:America/New_York
BEGIN:VTIMEZONE
TZID:America/New_York
BEGIN:STANDARD
TZNAME:EST
DTSTART:20221106T020000
TZOFFSETFROM:-0400
TZOFFSETTO:-0500
RDATE:20231105T020000
END:STANDARD
BEGIN:DAYLIGHT
TZNAME:EDT
DTSTART:20230312T020000
TZOFFSETFROM:-0500
TZOFFSETTO:-0400
RDATE:20240310T020000
END:DAYLIGHT
END:VTIMEZONE
BEGIN:VEVENT
UID:fa82a3a8-9d23-451b-8aab-5e8d4f5561a5
DTSTAMP:20260421T213006Z
DESCRIPTION:Sharing & Caring
DTSTART;TZID=America/New_York:20230322T190000
DTEND;TZID=America/New_York:20230322T210000
LOCATION:https://us02web.zoom.us/j/87429807569?pwd=Q1NyakdKZWhvNWphTlNwWkNI
 UGxPUT09
SUMMARY:Durham Region Support Group Meeting
END:VEVENT
END:VCALENDAR
