BEGIN:VCALENDAR
VERSION:2.0
PRODID:-//sjogrenscanada.org//NONSGML kigkonsult.se iCalcreator 2.30.10//
CALSCALE:GREGORIAN
METHOD:PUBLISH
UID:d1558239-bd93-4246-89de-b8d83be3ebf2
X-WR-CALDESC:Caring & Sharing
X-WR-RELCALID:1e3b93ee36e2ab26708f77ed0c9d61a8
X-WR-TIMEZONE:America/New_York
BEGIN:VTIMEZONE
TZID:America/New_York
BEGIN:STANDARD
TZNAME:EST
DTSTART:20221106T020000
TZOFFSETFROM:-0400
TZOFFSETTO:-0500
RDATE:20231105T020000
END:STANDARD
BEGIN:DAYLIGHT
TZNAME:EDT
DTSTART:20230312T020000
TZOFFSETFROM:-0500
TZOFFSETTO:-0400
RDATE:20240310T020000
END:DAYLIGHT
END:VTIMEZONE
BEGIN:VEVENT
UID:f9248c14-c838-4c0d-9df8-5c482ad58d3b
DTSTAMP:20260421T213116Z
DESCRIPTION:Caring & Sharing
DTSTART;TZID=America/New_York:20230323T190000
DTEND;TZID=America/New_York:20230323T210000
LOCATION:https://us02web.zoom.us/j/89449544679?pwd=SlFLaXlIQnZkMWV1OFFiN2R3
 YXhzUT09
SUMMARY:Brantford/Paris Support Group Meeting
END:VEVENT
END:VCALENDAR
