BEGIN:VCALENDAR
VERSION:2.0
PRODID:-//sjogrenscanada.org//NONSGML kigkonsult.se iCalcreator 2.30.10//
CALSCALE:GREGORIAN
METHOD:PUBLISH
UID:0b987bdb-6dc5-4907-af7d-036057e49ea8
X-WR-CALDESC:Guest Speaker - Dr. Leslie Laing\, Prosthodontist
X-WR-RELCALID:d34d50d3d9d3e9496df1bf7d779f5bdc
X-WR-TIMEZONE:America/New_York
BEGIN:VTIMEZONE
TZID:America/New_York
BEGIN:STANDARD
TZNAME:EST
DTSTART:20221106T020000
TZOFFSETFROM:-0400
TZOFFSETTO:-0500
RDATE:20231105T020000
END:STANDARD
BEGIN:DAYLIGHT
TZNAME:EDT
DTSTART:20230312T020000
TZOFFSETFROM:-0500
TZOFFSETTO:-0400
RDATE:20240310T020000
END:DAYLIGHT
END:VTIMEZONE
BEGIN:VEVENT
UID:0d03ba71-b1a0-4bc4-a4df-5c882127b90b
DTSTAMP:20260421T213647Z
DESCRIPTION:Guest Speaker - Dr. Leslie Laing\, Prosthodontist
DTSTART;TZID=America/New_York:20230325T100000
DTEND;TZID=America/New_York:20230325T120000
LOCATION:https://us02web.zoom.us/j/83986683948?pwd=UEM1L3JxNzFoekhaZCs5MXBK
 dHR1dz09
SUMMARY:London Support Group Meeting
END:VEVENT
END:VCALENDAR
